BEGIN:VCALENDAR
VERSION:2.0
CALSCALE:GREGORIAN
PRODID:-//Diputació de Barcelona//DibaCMS//EN
BEGIN:VEVENT
UID:244
DTSTAMP:20260422T024236
DTSTART:20180629T220000
DTEND:20180629T235900
SUMMARY:Plenilunium
LOCATION:
METHOD:PUBLISH
X-WR-CALNAME:laquar@laquar.cat
X-WR-TIMEZONE:Europe/Madrid
DESCRIPTION:
URI:https://www.laquar.cat/actualitat/agenda/plenilunium.html
CLASS:PUBLIC
END:VEVENT
END:VCALENDAR
